BEGIN:VCALENDAR
VERSION:2.0
PRODID:-//sturge-weber.org//NONSGML kigkonsult.se iCalcreator 2.30.10//
CALSCALE:GREGORIAN
METHOD:PUBLISH
UID:479fbbab-369c-4681-85cd-4a32670f34a5
X-WR-CALDESC:Join us for a virtual chat\, Be the Torch. Be the Light\, with
  Ansley and Donald—a night of hope and inspiring conversations about faith
 .\n\nHousekeeping Guidelines:\n\n• This is a safe and respectful space.\n•
  No judgment\, disrespect\, or attempts to convert others.\n• Please updat
 e your name (patient or family).\n• Turn on your video if you'd like to ch
 at.\n• Anyone who doesn't follow these rules may be removed.\n• Most impor
 tantly\, have fun!
X-WR-RELCALID:89b608dec8f9ae8910d0d775fbe8c8bb
X-WR-TIMEZONE:America/New_York
BEGIN:VTIMEZONE
TZID:America/New_York
BEGIN:STANDARD
TZNAME:EST
DTSTART:20251102T020000
TZOFFSETFROM:-0400
TZOFFSETTO:-0500
RDATE:20261101T020000
END:STANDARD
BEGIN:DAYLIGHT
TZNAME:EDT
DTSTART:20250309T020000
TZOFFSETFROM:-0500
TZOFFSETTO:-0400
RDATE:20260308T020000
RDATE:20270314T020000
END:DAYLIGHT
END:VTIMEZONE
BEGIN:VEVENT
UID:917e5264-8403-4e4b-bc9b-52e6b4cab10d
DTSTAMP:20260421T201558Z
DESCRIPTION:Join us for a virtual chat\, Be the Torch. Be the Light\, with 
 Ansley and Donald—a night of hope and inspiring conversations about faith.
 \n\nHousekeeping Guidelines:\n\n• This is a safe and respectful space.\n• 
 No judgment\, disrespect\, or attempts to convert others.\n• Please update
  your name (patient or family).\n• Turn on your video if you'd like to cha
 t.\n• Anyone who doesn't follow these rules may be removed.\n• Most import
 antly\, have fun!
DTSTART;TZID=America/New_York:20260119T193000
DTEND;TZID=America/New_York:20260119T203000
LOCATION:https://app.theauxilia.com/registrationEvent/160ae5be-51d8-4731-ae
 6f-fa4d07dc5fe5
SUMMARY:Be the Torch\, Be the Light - Monthly Virtual
END:VEVENT
END:VCALENDAR
