BEGIN:VCALENDAR
VERSION:2.0
PRODID:-//sturge-weber.org//NONSGML kigkonsult.se iCalcreator 2.30.10//
CALSCALE:GREGORIAN
METHOD:PUBLISH
UID:620a8740-227d-4b50-be91-5d30a81a7df6
X-WR-CALDESC:STURGE-WEBER SYNDROME CLINICAL & RESEARCH ROUNDTABLE FEATURING
 : ANNA PINTO\, MD – EMORY UNIVERSITY AND DR. JEFFREY LOEB\, MD - UIC\n\nTh
 is one-hour roundtable with Dr. Anna Pinto and Dr. Jeffrey Loeb will provi
 de an open\, interactive forum focused on (SWS) across the lifespan. Parti
 cipants will have the opportunity to ask questions and engage in discussio
 n related to clinical care\, emerging research\, care coordination\, and r
 eal-world challenges faced by individuals and families living with SWS. Th
 is session supports ongoing efforts to strengthen clinical–research–commun
 ity collaboration and advance care for individuals affected by Sturge-Webe
 r syndrome.
X-WR-RELCALID:b0c9b80d976a10486fbb0a125271f882
X-WR-TIMEZONE:America/New_York
BEGIN:VTIMEZONE
TZID:America/New_York
BEGIN:STANDARD
TZNAME:EST
DTSTART:20251102T020000
TZOFFSETFROM:-0400
TZOFFSETTO:-0500
RDATE:20261101T020000
END:STANDARD
BEGIN:DAYLIGHT
TZNAME:EDT
DTSTART:20260308T020000
TZOFFSETFROM:-0500
TZOFFSETTO:-0400
RDATE:20270314T020000
END:DAYLIGHT
END:VTIMEZONE
BEGIN:VEVENT
UID:57b87d91-aba3-4e21-9436-225889171da4
DTSTAMP:20260421T164536Z
DESCRIPTION:STURGE-WEBER SYNDROME CLINICAL & RESEARCH ROUNDTABLE FEATURING:
  ANNA PINTO\, MD – EMORY UNIVERSITY AND DR. JEFFREY LOEB\, MD - UIC\n\nThi
 s one-hour roundtable with Dr. Anna Pinto and Dr. Jeffrey Loeb will provid
 e an open\, interactive forum focused on (SWS) across the lifespan. Partic
 ipants will have the opportunity to ask questions and engage in discussion
  related to clinical care\, emerging research\, care coordination\, and re
 al-world challenges faced by individuals and families living with SWS. Thi
 s session supports ongoing efforts to strengthen clinical–research–communi
 ty collaboration and advance care for individuals affected by Sturge-Weber
  syndrome.
DTSTART;TZID=America/New_York:20260321T130000
DTEND;TZID=America/New_York:20260321T140000
LOCATION:https://app.theauxilia.com/registrationEvent/3005fb7a-c98c-443f-88
 46-347e401b235d
SUMMARY:STURGE-WEBER SYNDROME CLINICAL & RESEARCH ROUNDTABLE - VIRTUAL
END:VEVENT
END:VCALENDAR
