BEGIN:VCALENDAR
VERSION:2.0
PRODID:-//sturge-weber.org//NONSGML kigkonsult.se iCalcreator 2.30.10//
CALSCALE:GREGORIAN
METHOD:PUBLISH
UID:098a029f-6d39-4f44-b64b-d010e64bffe5
X-WR-CALDESC:The Reunion of Champions (ROC) is a yearly fundraising kick-of
 f event that supports Sturge-Weber syndrome research\, education\, awarene
 ss\, and patient/caregiver support. \n\nEach year\, the Reunion of Champio
 ns (ROC) takes center stage to celebrate one of the most outstanding derma
 tologists in the industry.\n\nAlongside the ROC honoree\, we recognize a L
 egacy Leader. These are the passionate champions\, the visionaries\, the w
 arriors who inspire hope and pave the way for Sturge-Weber syndrome genera
 tions.\n\nIt’s a moment to celebrate impact\, honor leadership\, and plant
  seeds of hope.\n\nLocation: Downtown Aquarium\, Denver\, CO\nDate: Friday
 \, March 27\, 2026\nNOTE TIME CHANGE: 6:30 pm-9:00pm\nROC Honoree: Paul M.
  Friedman\, MD\nLegacy Leader Honoree: Brian Biesman\, MD\, FACS\nwith Mas
 ter of Ceremonies: Roy Geronemus\, MD\n\nWhy Gems of Hope and Strength?\n
 \nBeneath the waves of life lies a rare and radiant treasure\, which is th
 e individuals your foundation supports. Ruby also leans towards the color 
 of a port-wine birthmark. This event celebrates rarity\, resilience\, and 
 beauty with a sophisticated underwater and gemstone brilliance.
X-WR-RELCALID:607c3ac56050a51abf5c2a80119762af
X-WR-TIMEZONE:America/New_York
BEGIN:VTIMEZONE
TZID:America/New_York
BEGIN:STANDARD
TZNAME:EST
DTSTART:20251102T020000
TZOFFSETFROM:-0400
TZOFFSETTO:-0500
RDATE:20261101T020000
END:STANDARD
BEGIN:DAYLIGHT
TZNAME:EDT
DTSTART:20260308T020000
TZOFFSETFROM:-0500
TZOFFSETTO:-0400
RDATE:20270314T020000
END:DAYLIGHT
END:VTIMEZONE
BEGIN:VEVENT
UID:19a4383a-41b3-4009-8d05-914382b5208b
DTSTAMP:20260421T164212Z
DESCRIPTION:The Reunion of Champions (ROC) is a yearly fundraising kick-off
  event that supports Sturge-Weber syndrome research\, education\, awarenes
 s\, and patient/caregiver support. \n\nEach year\, the Reunion of Champion
 s (ROC) takes center stage to celebrate one of the most outstanding dermat
 ologists in the industry.\n\nAlongside the ROC honoree\, we recognize a Le
 gacy Leader. These are the passionate champions\, the visionaries\, the wa
 rriors who inspire hope and pave the way for Sturge-Weber syndrome generat
 ions.\n\nIt’s a moment to celebrate impact\, honor leadership\, and plant 
 seeds of hope.\n\nLocation: Downtown Aquarium\, Denver\, CO\nDate: Friday\
 , March 27\, 2026\nNOTE TIME CHANGE: 6:30 pm-9:00pm\nROC Honoree: Paul M. 
 Friedman\, MD\nLegacy Leader Honoree: Brian Biesman\, MD\, FACS\nwith Mast
 er of Ceremonies: Roy Geronemus\, MD\n\nWhy Gems of Hope and Strength?\n\n
 Beneath the waves of life lies a rare and radiant treasure\, which is the 
 individuals your foundation supports. Ruby also leans towards the color of
  a port-wine birthmark. This event celebrates rarity\, resilience\, and be
 auty with a sophisticated underwater and gemstone brilliance.
DTSTART;TZID=America/New_York:20260327T183000
DTEND;TZID=America/New_York:20260327T210000
LOCATION:
SUMMARY:Reunion of Champions: Gems of Hope and Strength
END:VEVENT
END:VCALENDAR
